BEGIN:VCALENDAR
VERSION:2.0
PRODID:-//ChamberMaster//Event Calendar 2.0//EN
METHOD:PUBLISH
X-PUBLISHED-TTL:P3D
REFRESH-INTERVAL:P3D
CALSCALE:GREGORIAN
BEGIN:VEVENT
DTSTART:20260805T163000Z
DTEND:20260805T173000Z
X-MICROSOFT-CDO-ALLDAYEVENT:FALSE
SUMMARY:2026 Ambassador Committee Meeting & Member Orientation
DESCRIPTION:Join the Ambassador team as they welcome our new members and seasoned members to a review on how to maximize your membership.
X-ALT-DESC;FMTTYPE=text/html:Join the Ambassador team as they welcome our new members and seasoned members to a review on how to maximize your membership.&nbsp\;&nbsp\;
LOCATION:Chamber Offices 6300 Village Parkway\, Suite 100 Dublin\, CA 94568
UID:e.2528.4480
SEQUENCE:3
DTSTAMP:20260423T111814Z
URL:https://business.dublinchamberofcommerce.org/events/details/2026-ambassador-committee-meeting-member-orientation-4480
END:VEVENT

END:VCALENDAR
