BEGIN:VCALENDAR
VERSION:2.0
PRODID:-//ChamberMaster//Event Calendar 2.0//EN
METHOD:PUBLISH
X-PUBLISHED-TTL:P3D
REFRESH-INTERVAL:P3D
CALSCALE:GREGORIAN
BEGIN:VEVENT
DTSTART:20200918T010000Z
DTEND:20200918T023000Z
X-MICROSOFT-CDO-ALLDAYEVENT:FALSE
SUMMARY:Candidate Forum - Dublin Unified School District
DESCRIPTION:The Dublin Chamber of Commerce is partnering with GFWC Dublin San Ramon Women's Club to present candidates for Dublin Unified School District: Areas One and Four.  Area Three is an uncontested race.\n\nEvent will be moderated by Pleasanton Weekly\n\nFill out the survey to submit a question for the candidates and rate the most important issues facing the Dublin School District.\n\n\n\n\n\nClick here to take survey!  Rate the most important issues facing Dublin and submit a questions for the candidates.
X-ALT-DESC;FMTTYPE=text/html:<div class="kvgmc6g5 cxmmr5t8 oygrvhab hcukyx3x c1et5uql" color:="" font-size:="" segoe="" style="box-sizing: border-box\; border: 0px\; margin: 0px\; padding: 0px\; font-weight: 700\; overflow-wrap: break-word\; font-family: " ui="">The Dublin Chamber of Commerce is partnering with GFWC Dublin San Ramon Women&#39\;s Club to present candidates for Dublin Unified School District: Areas One and Four.&nbsp\; <em>Area Three is an uncontested race.</em></div>\n\n<div class="o9v6fnle cxmmr5t8 oygrvhab hcukyx3x c1et5uql" color:="" font-size:="" segoe="" style="box-sizing: border-box\; border: 0px\; margin: 0.5em 0px 0px\; padding: 0px\; font-weight: 700\; overflow-wrap: break-word\; font-family: " ui="">Event will be moderated by Pleasanton Weekly</div>\n\n<div class="o9v6fnle cxmmr5t8 oygrvhab hcukyx3x c1et5uql" color:="" font-size:="" segoe="" style="box-sizing: border-box\; border: 0px\; margin: 0.5em 0px 0px\; padding: 0px\; font-weight: 700\; overflow-wrap: break-word\; font-family: " ui="">Fill out the survey to submit a question for the candidates and rate the most important issues facing the Dublin School District.</div>\n\n<div class="o9v6fnle cxmmr5t8 oygrvhab hcukyx3x c1et5uql" color:="" font-size:="" segoe="" style="box-sizing: border-box\; border: 0px\; margin: 0.5em 0px 0px\; padding: 0px\; font-weight: 700\; overflow-wrap: break-word\; font-family: " ui=""><br />\n<br />\n<strong style="font-size: 48px\;"><a href="http://forms.gle/H8bHw94f1YRVxj4k8"><span style="background-color:#FFFF00\;">Click here</span></a><span style="color: rgb(255\, 0\, 0)\;">&nbsp\;to take survey!&nbsp\; Rate the most important issues facing Dublin and submit&nbsp\;a questions for the candidates.</span></strong></div>\n
LOCATION:
UID:e.2528.788
SEQUENCE:3
DTSTAMP:20260420T092807Z
URL:https://business.dublinchamberofcommerce.org/events/details/candidate-forum-dublin-unified-school-district-788
END:VEVENT

END:VCALENDAR
