BEGIN:VCALENDAR
VERSION:2.0
PRODID:-//ChamberMaster//Event Calendar 2.0//EN
METHOD:PUBLISH
X-PUBLISHED-TTL:P3D
REFRESH-INTERVAL:P3D
CALSCALE:GREGORIAN
BEGIN:VEVENT
DTSTART:20251019T190000Z
DTEND:20251019T220000Z
X-MICROSOFT-CDO-ALLDAYEVENT:FALSE
SUMMARY:Cluck Cluck Cab Franc: TOT Unplugged Edition
DESCRIPTION:Livermore Valley Wine Community presents\n\n12-3 PM | McGrail Vineyards & Winery\n\nJoin us at McGrail Vineyards & Winery for an afternoon of mouth watering fun with Cluck Cluck Cab Franc: Taste Our Terroir (TOT) Unplugged Edition! This signature Taste Weekend experience brings together Cabernet Franc lovers and chicken cuisine enthusiasts for a bold and flavorful pairing event.\n\nAs part of the Cab Franc Guild?s ?Taste Our Terroir Unplugged? series\, this Sunday celebration features 10+ Livermore Valley wineries showcasing their best expressions of Cabernet Franc\, alongside a curated lineup of local food trucks and caterers offering delectable\, chicken-inspired dishes.\n\nWhat to Expect\n\n\n	Explore the Pairing: Sip on a wide variety of Livermore Valley Cabernet Francs and discover how beautifully they pair with everything from crispy chicken sliders to spicy wings and savory skewers.\n	Vote for Your Favorite: Guests will cast their vote for the best Cab Franc + chicken combo\, with winning wineries and food vendors crowned at the end.\n	Celebrate the Community: This event gives food vendors a chance to shine and be featured during TASTE weekend\, helping connect wine lovers with culinary artisans in our region.\n\n\nParticipating Wineries & Partners: 10+ members of the Cab Franc Guild including -Cuda Ridge Wines\, Fenestra Winery\, Las Positas Vineyards\, Longevity Wines\, McGrail Vineyards & Winery\, Occasio Winery\, Rosa Fierro Cellars\, Rodrigue Molyneaux Winery\, The Steven Kent Winery\, and Wood Family Vineyards\, and handpicked collection of local food trucks and caterers (TBD)
X-ALT-DESC;FMTTYPE=text/html:<h5><span style="color:#8B4513"><span style="font-size:20px"><span style="font-family:tahoma">Livermore Valley Wine Community presents<br>\n12-3 PM | McGrail Vineyards &amp\; Winery</span></span></span></h5>\n\n<p><span style="font-size:16px"><span style="font-family:times new roman">Join us at McGrail Vineyards &amp\; Winery for an afternoon of mouth watering fun with Cluck Cluck Cab Franc: Taste Our Terroir&nbsp\;(TOT) Unplugged Edition! This signature Taste Weekend experience brings together Cabernet Franc lovers and chicken cuisine enthusiasts for a bold and flavorful pairing event.</span></span></p>\n\n<p><span style="font-size:16px"><span style="font-family:times new roman">As part of the Cab Franc Guild?s ?Taste Our Terroir Unplugged? series\, this Sunday celebration&nbsp\;features 10+ Livermore Valley wineries showcasing their best expressions of Cabernet Franc\, alongside a curated lineup of local food trucks and caterers offering delectable\, chicken-inspired dishes.</span></span></p>\n\n<p><span style="font-size:16px"><span style="font-family:times new roman"><strong>What to Expect</strong></span></span></p>\n\n<ul>\n	<li><span style="font-size:16px"><span style="font-family:times new roman">Explore the Pairing: Sip on a wide variety of Livermore Valley Cabernet Francs and discover how beautifully they pair with everything from crispy chicken sliders to spicy wings and savory skewers.</span></span></li>\n	<li><span style="font-size:16px"><span style="font-family:times new roman">Vote for Your Favorite: Guests will cast their vote for the best Cab Franc + chicken combo\, with winning wineries and food vendors crowned at the end.</span></span></li>\n	<li><span style="font-size:16px"><span style="font-family:times new roman">Celebrate the Community: This event gives food vendors a chance to shine and be featured during TASTE weekend\, helping connect wine lovers with culinary artisans in our region.</span></span></li>\n</ul>\n\n<p><span style="font-size:16px"><span style="font-family:times new roman"><strong>Participating Wineries &amp\; Partners:</strong>&nbsp\;10+ members of the Cab Franc Guild including -Cuda Ridge Wines\, Fenestra&nbsp\;Winery\, Las Positas Vineyards\, Longevity Wines\, McGrail Vineyards &amp\; Winery\, Occasio&nbsp\;Winery\, Rosa Fierro Cellars\, Rodrigue&nbsp\;Molyneaux&nbsp\;Winery\, The Steven Kent Winery\, and Wood Family Vineyards\, and handpicked collection of local food trucks and caterers (TBD)</span></span></p>\n
LOCATION:McGrail Vineyards & Winery
UID:e.2528.4415
SEQUENCE:3
DTSTAMP:20260420T084912Z
URL:https://business.dublinchamberofcommerce.org/events/details/cluck-cluck-cab-franc-tot-unplugged-edition-4415
END:VEVENT

END:VCALENDAR
