BEGIN:VCALENDAR
VERSION:2.0
PRODID:-//ChamberMaster//Event Calendar 2.0//EN
METHOD:PUBLISH
X-PUBLISHED-TTL:P3D
REFRESH-INTERVAL:P3D
CALSCALE:GREGORIAN
BEGIN:VEVENT
DTSTART:20190920T000000Z
DTEND:20190920T020000Z
X-MICROSOFT-CDO-ALLDAYEVENT:FALSE
SUMMARY:Costello Luau and BBQ Networking Mixer
DESCRIPTION:Join us for the Annual\n\nCOSTELLO\n\nLUAU & BBQ\n\nNetworking Mixer\n\n\n\nFeaturing BBQ by Chaka and his MMM Sauce
X-ALT-DESC;FMTTYPE=text/html:Join us for the Annual<br />\nCOSTELLO<br />\nLUAU &amp\; BBQ<br />\nNetworking Mixer<br />\n<br />\nFeaturing BBQ by Chaka and his MMM Sauce<br />\n<br />\n&nbsp\;
LOCATION:Costello Accountance Corporation 7080 Donlon Way\, Ste. 126\, Dublin (Parking lot - Left side of building)
UID:e.2528.253
SEQUENCE:3
DTSTAMP:20260421T184611Z
URL:https://business.dublinchamberofcommerce.org/events/details/costello-luau-and-bbq-networking-mixer-253
END:VEVENT

END:VCALENDAR
