BEGIN:VCALENDAR
VERSION:2.0
PRODID:-//ChamberMaster//Event Calendar 2.0//EN
METHOD:PUBLISH
X-PUBLISHED-TTL:P3D
REFRESH-INTERVAL:P3D
CALSCALE:GREGORIAN
BEGIN:VEVENT
DTSTART:20260419T173000Z
DTEND:20260419T190000Z
X-MICROSOFT-CDO-ALLDAYEVENT:FALSE
SUMMARY:GrowWise Weekly Workshops
DESCRIPTION:Trial sessions are a scam. Get a real workshop. \n\nMost "trials" are just sales pitches in disguise. At GrowWise\, we believe in Serious Learning from day one. We don't do "sneak peeks" we do structured\, deep-dive sessions for students ready to go beyond the standard classroom.\n\nWe are bringing university-level rigor to the Tri-Valley with our monthly workshop series. Your child won't just watch\; they will participate\, build\, and solve.\n\nOur March 2026 Curriculum includes:\n\n\n	\n	Reading Comprehension | Advanced analysis for critical thinkers.\n	\n	\n	Math Olympiad | Competitive logic and problem-solving.\n	\n	\n	Scratch Coding | From basics to complex game logic.\n	\n	\n	AI Studio | Ethical AI and prompt engineering for kids.\n	\n	\n	Parent Webinars | Strategic roadmaps for academic success.\n	\n\n\nThis is community-focused education designed for the families of Dublin\, Pleasanton\, and San Ramon who value preparation over participation trophies.\n\n The March Calendar is now LIVE. Secure your spot via the link in our bio: https://www.growwiseschool.org/en/workshop-calendar
X-ALT-DESC;FMTTYPE=text/html:<p><strong>Trial sessions are a scam. Get a real workshop.</strong>&nbsp\;</p>\n\n<p>Most &quot\;trials&quot\; are just sales pitches in disguise. At <strong>GrowWise</strong>\, we believe in <strong>Serious Learning</strong> from day one. We don&rsquo\;t do &quot\;sneak peeks&quot\;&mdash\;we do structured\, deep-dive sessions for students ready to go beyond the standard classroom.</p>\n\n<p>We are bringing university-level rigor to the <strong>Tri-Valley</strong> with our monthly workshop series. Your child won&#39\;t just watch\; they will participate\, build\, and solve.</p>\n\n<p><strong>Our March 2026 Curriculum includes:</strong></p>\n\n<ul>\n	<li>\n	<p><strong>Reading Comprehension</strong> | Advanced analysis for critical thinkers.</p>\n	</li>\n	<li>\n	<p><strong>Math Olympiad</strong> | Competitive logic and problem-solving.</p>\n	</li>\n	<li>\n	<p><strong>Scratch Coding</strong> | From basics to complex game logic.</p>\n	</li>\n	<li>\n	<p><strong>AI Studio</strong> | Ethical AI and prompt engineering for kids.</p>\n	</li>\n	<li>\n	<p><strong>Parent Webinars</strong> | Strategic roadmaps for academic success.</p>\n	</li>\n</ul>\n\n<p>This is community-focused education designed for the families of <strong>Dublin\, Pleasanton\, and San Ramon</strong> who value preparation over participation trophies.</p>\n\n<p>&nbsp\;<strong>The March Calendar is now LIVE.</strong>&nbsp\;<strong>Secure your spot via the link in our bio:</strong> <a class="ng-star-inserted" href="https://www.growwiseschool.org/en/workshop-calendar" rel="noopener" target="_blank">https://www.growwiseschool.org/en/workshop-calendar</a></p>\n
LOCATION:4564 Dublin Blvd\, Dublin\, CA
UID:e.2528.5513
SEQUENCE:3
DTSTAMP:20260420T101008Z
URL:https://business.dublinchamberofcommerce.org/events/details/growwise-weekly-workshops-04-19-2026-5513
END:VEVENT

END:VCALENDAR
