BEGIN:VCALENDAR
VERSION:2.0
PRODID:-//ChamberMaster//Event Calendar 2.0//EN
METHOD:PUBLISH
X-PUBLISHED-TTL:P3D
REFRESH-INTERVAL:P3D
CALSCALE:GREGORIAN
BEGIN:VEVENT
DTSTART:20260514T190000Z
DTEND:20260514T200000Z
X-MICROSOFT-CDO-ALLDAYEVENT:FALSE
SUMMARY:John Muir Health webinar - mental health awareness.
DESCRIPTION:Please be sure to check out the next John Muir Health webinar on mental health awareness.\n\n \n\nDate: Thursday\, May 14\, 2026\n\nTime: 12:00   1:00 PM\n\n\n\nJoin Anna Sabio\, Director\, Behavioral Health\, as she presents John Muir Health's Behavioral Health and Family Resources including our new Skills Handbook: Your Path to Resiliency and Recovery. \n\nFree and open to the public. \n\n \nRegister here: https://us06web.zoom.us/webinar/register/WN_RQDoBmMTSBq340uQgfDpPg#/registration
X-ALT-DESC;FMTTYPE=text/html:Please be sure to check out the next John Muir Health webinar on mental health awareness.<br />\n&nbsp\;<br />\nDate: Thursday\, May 14\, 2026<br />\nTime: 12:00 &ndash\; 1:00 PM<br />\n<br />\nJoin Anna Sabio\, Director\, Behavioral Health\, as she presents John Muir Health&rsquo\;s Behavioral Health and Family Resources including our new Skills Handbook: Your Path to Resiliency and Recovery.&nbsp\;<br />\nFree and open to the public.&nbsp\;<br />\n&nbsp\;\n<div>Register here: https://us06web.zoom.us/webinar/register/WN_RQDoBmMTSBq340uQgfDpPg#/registration</div>\n
LOCATION:Virtual Register here: https://us06web.zoom.us/webinar/register/WN_RQDoBmMTSBq340uQgfDpPg#/registration
UID:e.2528.5568
SEQUENCE:3
DTSTAMP:20260424T114614Z
URL:https://business.dublinchamberofcommerce.org/events/details/john-muir-health-webinar-mental-health-awareness-5568
END:VEVENT

END:VCALENDAR
