BEGIN:VCALENDAR
VERSION:2.0
PRODID:-//ChamberMaster//Event Calendar 2.0//EN
METHOD:PUBLISH
X-PUBLISHED-TTL:P3D
REFRESH-INTERVAL:P3D
CALSCALE:GREGORIAN
BEGIN:VEVENT
DTSTART:20240521T170000Z
DTEND:20240521T210000Z
X-MICROSOFT-CDO-ALLDAYEVENT:FALSE
SUMMARY:Kaiser Permanente Dublin Farmers' Market
DESCRIPTION:2024 Farmers' Market April 16th to November 26th\n\nOpen to everyone\, the Kaiser Permanente Dublin Farmers' Market offers plentiful parking\, delicious lunch options\, and of course the freshest local produce direct from the field!\n\n\n\nMedical Office Entrance on Dublin Blvd.
X-ALT-DESC;FMTTYPE=text/html:2024 Farmers&rsquo\; Market April 16th to November 26th<br />\n<span style="color: rgb(102\, 102\, 102)\; font-family: Lato\, Helvetica\, sans-serif\; font-size: 15px\;">Open to everyone\, the Kaiser Permanente Dublin Farmers&#39\; Market offers plentiful parking\, delicious lunch options\, and of course the freshest local produce direct from the field!</span><br />\n<br />\nMedical Office Entrance on Dublin Blvd.
LOCATION:3100 Dublin Blvd\, Dublin\, CA 94568 Medical Office Entrance on Dublin Blvd.
UID:e.2528.3539
SEQUENCE:3
DTSTAMP:20260421T144847Z
URL:https://business.dublinchamberofcommerce.org/events/details/kaiser-permanente-dublin-farmers-market-05-21-2024-3539
END:VEVENT

END:VCALENDAR
